BEGIN:VCALENDAR
VERSION:2.0
PRODID:-// - ECPv6.15.20//NONSGML v1.0//EN
CALSCALE:GREGORIAN
METHOD:PUBLISH
X-ORIGINAL-URL:https://monmouthhealthandwellness.com
X-WR-CALDESC:Events for 
REFRESH-INTERVAL;VALUE=DURATION:PT1H
X-Robots-Tag:noindex
X-PUBLISHED-TTL:PT1H
BEGIN:VTIMEZONE
TZID:America/New_York
BEGIN:DAYLIGHT
TZOFFSETFROM:-0500
TZOFFSETTO:-0400
TZNAME:EDT
DTSTART:20240310T070000
END:DAYLIGHT
BEGIN:STANDARD
TZOFFSETFROM:-0400
TZOFFSETTO:-0500
TZNAME:EST
DTSTART:20241103T060000
END:STANDARD
BEGIN:DAYLIGHT
TZOFFSETFROM:-0500
TZOFFSETTO:-0400
TZNAME:EDT
DTSTART:20250309T070000
END:DAYLIGHT
BEGIN:STANDARD
TZOFFSETFROM:-0400
TZOFFSETTO:-0500
TZNAME:EST
DTSTART:20251102T060000
END:STANDARD
BEGIN:DAYLIGHT
TZOFFSETFROM:-0500
TZOFFSETTO:-0400
TZNAME:EDT
DTSTART:20260308T070000
END:DAYLIGHT
BEGIN:STANDARD
TZOFFSETFROM:-0400
TZOFFSETTO:-0500
TZNAME:EST
DTSTART:20261101T060000
END:STANDARD
END:VTIMEZONE
BEGIN:VEVENT
DTSTART;TZID=America/New_York:20250219T133000
DTEND;TZID=America/New_York:20250219T163000
DTSTAMP:20260424T190348
CREATED:20250204T125134Z
LAST-MODIFIED:20250204T125134Z
UID:15988-1739971800-1739982600@monmouthhealthandwellness.com
SUMMARY:Wellness Screenings and Health Talk by Hackensack Meridian Health
DESCRIPTION:
URL:https://monmouthhealthandwellness.com/event/wellness-screenings-and-health-talk-by-hackensack-meridian-health/
CATEGORIES:Health And Wellness Events Monmouth County NJ
END:VEVENT
BEGIN:VEVENT
DTSTART;TZID=America/New_York:20250208T140000
DTEND;TZID=America/New_York:20250208T180000
DTSTAMP:20260424T190348
CREATED:20250204T124645Z
LAST-MODIFIED:20250204T124731Z
UID:15981-1739023200-1739037600@monmouthhealthandwellness.com
SUMMARY:Health and Wellness Event & Wine Tasting
DESCRIPTION:  \nAbout the event Health and Wellness Event & Wine Tasting \n\nFree to Attend! \nJoin FMHTY at the next health and wellness event on Diabetes and Hypertension! \nFree entry\, wine tasting\, raffles\, and shopping from small\, minority-owned NJ businesses.
URL:https://monmouthhealthandwellness.com/event/health-and-wellness-event-wine-tasting/
CATEGORIES:Health And Wellness Events Monmouth County NJ
END:VEVENT
BEGIN:VEVENT
DTSTART;TZID=America/New_York:20250206T180000
DTEND;TZID=America/New_York:20250206T220000
DTSTAMP:20260424T190348
CREATED:20250204T124931Z
LAST-MODIFIED:20250204T124931Z
UID:15985-1738864800-1738879200@monmouthhealthandwellness.com
SUMMARY:MCSPW Symposium on Mental Health & Wellness
DESCRIPTION:
URL:https://monmouthhealthandwellness.com/event/mcspw-symposium-on-mental-health-wellness/
CATEGORIES:Health And Wellness Events Monmouth County NJ
END:VEVENT
BEGIN:VEVENT
DTSTART;TZID=America/New_York:20250203T080000
DTEND;TZID=America/New_York:20250307T170000
DTSTAMP:20260424T190348
CREATED:20250117T111719Z
LAST-MODIFIED:20250117T111719Z
UID:15842-1738569600-1741366800@monmouthhealthandwellness.com
SUMMARY:Kysse & Tell Valentines Day Special Event Feb 3rd to Feb 7th
DESCRIPTION:
URL:https://monmouthhealthandwellness.com/event/kysse-tell-valentines-day-special-event-feb-3rd-to-feb-7th/
CATEGORIES:Health And Wellness Events Monmouth County NJ
END:VEVENT
END:VCALENDAR